回多个平台构建/检查报告BioC 3.16:简化长 |
|
这个页面生成于-0400年2023-04-12 11:04:33(结婚,2023年4月12日)。
主机名 | 操作系统 | 拱(*) | R版本 | 安装的包裹 |
---|---|---|---|---|
nebbiolo2 | Linux (Ubuntu 20.04.5 LTS) | x86_64 | 4.2.3(2023-03-15)——“游击手小猎犬” | 4502年 |
palomino4 | Windows Server 2022数据中心 | x64 | 4.2.3 (2023-03-15 ucrt)——“游击手小猎犬” | 4282年 |
lconway | macOS 12.5.1蒙特利 | x86_64 | 4.2.3(2023-03-15)——“游击手小猎犬” | 4310年 |
点击任何主机名看到更多的信息系统(如编译器)(*)报道的uname - p”,除了在Windows和Mac OS X |
的开发人员/维bob电竞体育官网护者fgsea包: ——请允许24小时(有时是48小时)为您的最新推到git@git.bioconductor.org:包/ fgsea.git 反思这一报告。看到如何以及何时builder拉吗?当我的更改传播吗?为更多的信息。 ——确保使用以下设置为了复制任何错误或警告你看到这个页面上。 |
包675年/ 2183 | 主机名 | OS /拱 | 安装 | 构建 | 检查 | 构建本 | ||||||||
fgsea 1.24.0(着陆页) Alexey Sergushichev
|
nebbiolo2 | Linux (Ubuntu 20.04.5 LTS) / x86_64 | 好吧 | 好吧 | 好吧 | ![]() |
||||||||
palomino4 | Windows Server 2022数据中心/ x64 | 好吧 | 好吧 | 好吧 | 好吧 | ![]() |
||||||||
lconway | macOS 12.5.1蒙特利/ x86_64 | 好吧 | 好吧 | 好吧 | 好吧 | ![]() |
||||||||
快速统计数据 | OS /拱 | 安装 | 构建 | 检查 | 构建本 | |||||||||||||||||
nebbiolo2 | Linux (Ubuntu 20.04.5 LTS) / x86_64 |
|
|
|
||||||||||||||||||
palomino4 | Windows Server 2022数据中心/ x64 |
|
|
|
|
|||||||||||||||||
lconway | macOS 12.5.1蒙特利/ x86_64 |
|
|
|
|
|||||||||||||||||
包1/ 23 | 主机名 | OS /拱 | 安装 | 构建 | 检查 | 构建本 | ||||||||||||||||
ASpediaFI1.12.0(着陆页) Doyeong余
|
nebbiolo2 | Linux (Ubuntu 20.04.5 LTS) / x86_64 | 错误 | 错误 | 跳过 | |||||||||||||||||
palomino4 | Windows Server 2022数据中心/ x64 | 错误 | 错误 | 跳过 | 跳过 | |||||||||||||||||
lconway | macOS 12.5.1蒙特利/ x86_64 | 错误 | 错误 | 跳过 | 跳过 | |||||||||||||||||
包2/ 23 | 主机名 | OS /拱 | 安装 | 构建 | 检查 | 构建本 | ||||||||||||||||
ATACCoGAPS1.0.0(着陆页) Rossin Erbe
|
nebbiolo2 | Linux (Ubuntu 20.04.5 LTS) / x86_64 | 好吧 | 好吧 | 好吧 | ![]() |
||||||||||||||||
palomino4 | Windows Server 2022数据中心/ x64 | 好吧 | 好吧 | 好吧 | 好吧 | ![]() |
||||||||||||||||
lconway | macOS 12.5.1蒙特利/ x86_64 | 好吧 | 好吧 | 好吧 | 好吧 | ![]() |
||||||||||||||||
包3/ 23 | 主机名 | OS /拱 | 安装 | 构建 | 检查 | 构建本 | ||||||||||||||||
BioNAR1.0.0(着陆页) Anatoly Sorokin
|
nebbiolo2 | Linux (Ubuntu 20.04.5 LTS) / x86_64 | 好吧 | 好吧 | 好吧 | ![]() |
||||||||||||||||
palomino4 | Windows Server 2022数据中心/ x64 | 好吧 | 好吧 | 好吧 | 好吧 | ![]() |
||||||||||||||||
lconway | macOS 12.5.1蒙特利/ x86_64 | 好吧 | 好吧 | 好吧 | 好吧 | ![]() |
||||||||||||||||
包4/ 23 | 主机名 | OS /拱 | 安装 | 构建 | 检查 | 构建本 | ||||||||||||||||
CelliD1.6.2(着陆页) 彰Cortal
|
nebbiolo2 | Linux (Ubuntu 20.04.5 LTS) / x86_64 | 好吧 | 好吧 | 警告 | ![]() |
||||||||||||||||
palomino4 | Windows Server 2022数据中心/ x64 | 好吧 | 好吧 | 警告 | 好吧 | ![]() |
||||||||||||||||
lconway | macOS 12.5.1蒙特利/ x86_64 | 好吧 | 好吧 | 警告 | 好吧 | ![]() |
||||||||||||||||
包5/ 23 | 主机名 | OS /拱 | 安装 | 构建 | 检查 | 构建本 | ||||||||||||||||
CEMiTool1.22.0(着陆页) 举行Nakaya
|
nebbiolo2 | Linux (Ubuntu 20.04.5 LTS) / x86_64 | 好吧 | 好吧 | 好吧 | ![]() |
||||||||||||||||
palomino4 | Windows Server 2022数据中心/ x64 | 好吧 | 好吧 | 好吧 | 好吧 | ![]() |
||||||||||||||||
lconway | macOS 12.5.1蒙特利/ x86_64 | 好吧 | 好吧 | 好吧 | 好吧 | ![]() |
||||||||||||||||
包6/ 23 | 主机名 | OS /拱 | 安装 | 构建 | 检查 | 构建本 | ||||||||||||||||
clustifyr1.10.0(着陆页) 肯特Riemondy
|
nebbiolo2 | Linux (Ubuntu 20.04.5 LTS) / x86_64 | 好吧 | 好吧 | 好吧 | ![]() |
||||||||||||||||
palomino4 | Windows Server 2022数据中心/ x64 | 好吧 | 好吧 | 好吧 | 好吧 | ![]() |
||||||||||||||||
lconway | macOS 12.5.1蒙特利/ x86_64 | 好吧 | 好吧 | 好吧 | 好吧 | ![]() |
||||||||||||||||
包7/ 23 | 主机名 | OS /拱 | 安装 | 构建 | 检查 | 构建本 | ||||||||||||||||
cTRAP1.16.0(着陆页) 努诺·Saraiva-Agostinho
|
nebbiolo2 | Linux (Ubuntu 20.04.5 LTS) / x86_64 | 好吧 | 好吧 | 好吧 | ![]() |
||||||||||||||||
palomino4 | Windows Server 2022数据中心/ x64 | 好吧 | 好吧 | 警告 | 好吧 | ![]() |
||||||||||||||||
lconway | macOS 12.5.1蒙特利/ x86_64 | 好吧 | 好吧 | 好吧 | 好吧 | ![]() |
||||||||||||||||
包8/ 23 | 主机名 | OS /拱 | 安装 | 构建 | 检查 | 构建本 | ||||||||||||||||
剂量3.24.2(着陆页) Guangchuang余
|
nebbiolo2 | Linux (Ubuntu 20.04.5 LTS) / x86_64 | 好吧 | 好吧 | 好吧 | ![]() |
||||||||||||||||
palomino4 | Windows Server 2022数据中心/ x64 | 好吧 | 好吧 | 好吧 | 好吧 | ![]() |
||||||||||||||||
lconway | macOS 12.5.1蒙特利/ x86_64 | 好吧 | 好吧 | 好吧 | 好吧 | ![]() |
||||||||||||||||
包9/ 23 | 主机名 | OS /拱 | 安装 | 构建 | 检查 | 构建本 | ||||||||||||||||
EventPointer3.6.0(着陆页) 胡安·a·Ferrer-Bonsoms
|
nebbiolo2 | Linux (Ubuntu 20.04.5 LTS) / x86_64 | 好吧 | 好吧 | 好吧 | ![]() |
||||||||||||||||
palomino4 | Windows Server 2022数据中心/ x64 | 好吧 | 好吧 | 好吧 | 好吧 | ![]() |
||||||||||||||||
lconway | macOS 12.5.1蒙特利/ x86_64 | 好吧 | 好吧 | 好吧 | 好吧 | ![]() |
||||||||||||||||
包10/ 23 | 主机名 | OS /拱 | 安装 | 构建 | 检查 | 构建本 | ||||||||||||||||
fobitools1.6.0(着陆页) 波尔Castellano-Escuder
|
nebbiolo2 | Linux (Ubuntu 20.04.5 LTS) / x86_64 | 好吧 | 好吧 | 好吧 | ![]() |
||||||||||||||||
palomino4 | Windows Server 2022数据中心/ x64 | 好吧 | 好吧 | 好吧 | 好吧 | ![]() |
||||||||||||||||
lconway | macOS 12.5.1蒙特利/ x86_64 | 好吧 | 好吧 | 好吧 | 好吧 | ![]() |
||||||||||||||||
包11/ 23 | 主机名 | OS /拱 | 安装 | 构建 | 检查 | 构建本 | ||||||||||||||||
gsean1.18.0(着陆页) Dongmin荣格
|
nebbiolo2 | Linux (Ubuntu 20.04.5 LTS) / x86_64 | 好吧 | 好吧 | 好吧 | ![]() |
||||||||||||||||
palomino4 | Windows Server 2022数据中心/ x64 | 好吧 | 好吧 | 好吧 | 好吧 | ![]() |
||||||||||||||||
lconway | macOS 12.5.1蒙特利/ x86_64 | 好吧 | 好吧 | 好吧 | 好吧 | ![]() |
||||||||||||||||
包12/ 23 | 主机名 | OS /拱 | 安装 | 构建 | 检查 | 构建本 | ||||||||||||||||
lipidr2.12.0(着陆页) 艾哈迈德穆罕默德
|
nebbiolo2 | Linux (Ubuntu 20.04.5 LTS) / x86_64 | 好吧 | 好吧 | 好吧 | ![]() |
||||||||||||||||
palomino4 | Windows Server 2022数据中心/ x64 | 好吧 | 好吧 | 好吧 | 好吧 | ![]() |
||||||||||||||||
lconway | macOS 12.5.1蒙特利/ x86_64 | 好吧 | 好吧 | 好吧 | 好吧 | ![]() |
||||||||||||||||
包13/ 23 | 主机名 | OS /拱 | 安装 | 构建 | 检查 | 构建本 | ||||||||||||||||
mCSEA1.18.0(着陆页) 乔迪Martorell-Marugan
|
nebbiolo2 | Linux (Ubuntu 20.04.5 LTS) / x86_64 | 好吧 | 好吧 | 好吧 | ![]() |
||||||||||||||||
palomino4 | Windows Server 2022数据中心/ x64 | 好吧 | 好吧 | 好吧 | 好吧 | ![]() |
||||||||||||||||
lconway | macOS 12.5.1蒙特利/ x86_64 | 好吧 | 好吧 | 好吧 | 好吧 | ![]() |
||||||||||||||||
包14/ 23 | 主机名 | OS /拱 | 安装 | 构建 | 检查 | 构建本 | ||||||||||||||||
metapone1.4.0(着陆页) 余天威
|
nebbiolo2 | Linux (Ubuntu 20.04.5 LTS) / x86_64 | 好吧 | 好吧 | 好吧 | ![]() |
||||||||||||||||
palomino4 | Windows Server 2022数据中心/ x64 | 好吧 | 好吧 | 好吧 | 好吧 | ![]() |
||||||||||||||||
lconway | macOS 12.5.1蒙特利/ x86_64 | 好吧 | 好吧 | 好吧 | 好吧 | ![]() |
||||||||||||||||
包15/ 23 | 主机名 | OS /拱 | 安装 | 构建 | 检查 | 构建本 | ||||||||||||||||
multiGSEA1.8.3(着陆页) 塞巴斯蒂安Canzler
|
nebbiolo2 | Linux (Ubuntu 20.04.5 LTS) / x86_64 | 好吧 | 好吧 | 错误 | |||||||||||||||||
palomino4 | Windows Server 2022数据中心/ x64 | 好吧 | 好吧 | 错误 | 好吧 | |||||||||||||||||
lconway | macOS 12.5.1蒙特利/ x86_64 | 好吧 | 好吧 | 错误 | 好吧 | |||||||||||||||||
包16/ 23 | 主机名 | OS /拱 | 安装 | 构建 | 检查 | 构建本 | ||||||||||||||||
纳米管1.4.0(着陆页) 迦勒类
|
nebbiolo2 | Linux (Ubuntu 20.04.5 LTS) / x86_64 | 好吧 | 好吧 | 好吧 | ![]() |
||||||||||||||||
palomino4 | Windows Server 2022数据中心/ x64 | 好吧 | 好吧 | 错误 | 好吧 | |||||||||||||||||
lconway | macOS 12.5.1蒙特利/ x86_64 | 好吧 | 好吧 | 好吧 | 好吧 | ![]() |
||||||||||||||||
包17/ 23 | 主机名 | OS /拱 | 安装 | 构建 | 检查 | 构建本 | ||||||||||||||||
omicsViewer1.2.0(着陆页) 陈孟
|
nebbiolo2 | Linux (Ubuntu 20.04.5 LTS) / x86_64 | 好吧 | 好吧 | 好吧 | ![]() |
||||||||||||||||
palomino4 | Windows Server 2022数据中心/ x64 | 好吧 | 好吧 | 好吧 | 好吧 | ![]() |
||||||||||||||||
lconway | macOS 12.5.1蒙特利/ x86_64 | 好吧 | 好吧 | 好吧 | 好吧 | ![]() |
||||||||||||||||
包18/ 23 | 主机名 | OS /拱 | 安装 | 构建 | 检查 | 构建本 | ||||||||||||||||
phantasus1.18.4(着陆页) Alexey Sergushichev
|
nebbiolo2 | Linux (Ubuntu 20.04.5 LTS) / x86_64 | 好吧 | 好吧 | 好吧 | ![]() |
||||||||||||||||
palomino4 | Windows Server 2022数据中心/ x64 | 好吧 | 好吧 | 好吧 | 好吧 | ![]() |
||||||||||||||||
lconway | macOS 12.5.1蒙特利/ x86_64 | 好吧 | 好吧 | 好吧 | 好吧 | ![]() |
||||||||||||||||
包19/ 23 | 主机名 | OS /拱 | 安装 | 构建 | 检查 | 构建本 | ||||||||||||||||
钢琴2.14.0(着陆页) 列夫Varemo Wigge
|
nebbiolo2 | Linux (Ubuntu 20.04.5 LTS) / x86_64 | 好吧 | 好吧 | 好吧 | ![]() |
||||||||||||||||
palomino4 | Windows Server 2022数据中心/ x64 | 好吧 | 好吧 | 好吧 | 好吧 | ![]() |
||||||||||||||||
lconway | macOS 12.5.1蒙特利/ x86_64 | 好吧 | 好吧 | 好吧 | 好吧 | ![]() |
||||||||||||||||
包20./ 23 | 主机名 | OS /拱 | 安装 | 构建 | 检查 | 构建本 | ||||||||||||||||
PPInfer1.24.2(着陆页) Dongmin荣格
|
nebbiolo2 | Linux (Ubuntu 20.04.5 LTS) / x86_64 | 好吧 | 好吧 | 好吧 | ![]() |
||||||||||||||||
palomino4 | Windows Server 2022数据中心/ x64 | 好吧 | 好吧 | 好吧 | 好吧 | ![]() |
||||||||||||||||
lconway | macOS 12.5.1蒙特利/ x86_64 | 好吧 | 好吧 | 好吧 | 好吧 | ![]() |
||||||||||||||||
包21/ 23 | 主机名 | OS /拱 | 安装 | 构建 | 检查 | 构建本 | ||||||||||||||||
RegEnrich1.8.0(着陆页) 东陶
|
nebbiolo2 | Linux (Ubuntu 20.04.5 LTS) / x86_64 | 好吧 | 错误 | 跳过 | |||||||||||||||||
palomino4 | Windows Server 2022数据中心/ x64 | 好吧 | 好吧 | 好吧 | 好吧 | ![]() |
||||||||||||||||
lconway | macOS 12.5.1蒙特利/ x86_64 | 好吧 | 好吧 | 好吧 | 好吧 | ![]() |
||||||||||||||||
包22/ 23 | 主机名 | OS /拱 | 安装 | 构建 | 检查 | 构建本 | ||||||||||||||||
signatureSearch1.12.0(着陆页) 布伦丹Gongol
|
nebbiolo2 | Linux (Ubuntu 20.04.5 LTS) / x86_64 | 好吧 | 好吧 | 好吧 | ![]() |
||||||||||||||||
palomino4 | Windows Server 2022数据中心/ x64 | 好吧 | 好吧 | 好吧 | 好吧 | ![]() |
||||||||||||||||
lconway | macOS 12.5.1蒙特利/ x86_64 | 好吧 | 好吧 | 好吧 | 好吧 | ![]() |
||||||||||||||||
包23/ 23 | 主机名 | OS /拱 | 安装 | 构建 | 检查 | 构建本 | ||||||||||||||||
ViSEAGO1.12.0(着陆页) Aurelien Brionne
|
nebbiolo2 | Linux (Ubuntu 20.04.5 LTS) / x86_64 | 好吧 | 好吧 | 警告 | ![]() |
||||||||||||||||
palomino4 | Windows Server 2022数据中心/ x64 | 好吧 | 好吧 | 警告 | 好吧 | ![]() |
||||||||||||||||
lconway | macOS 12.5.1蒙特利/ x86_64 | 好吧 | 好吧 | 警告 | 好吧 | ![]() |
||||||||||||||||