Back toMultiple platform build/check report for BioC 3.16:simplifiedlong |
|
This page was generated on 2023-04-12 11:04:56 -0400 (Wed, 12 Apr 2023).
Hostname | OS | Arch (*) | R版本 | Installed pkgs |
---|---|---|---|---|
nebbiolo2 | Linux (Ubuntu 20.04.5 LTS) | x86_64 | 4.2.3 (2023-03-15) -- "Shortstop Beagle" | 4502 |
palomino4 | Windows Server 2022 Datacenter | x64 | 4.2.3 (2023-03-15 ucrt) -- "Shortstop Beagle" | 4282 |
lconway | macOS 12.5.1 Monterey | x86_64 | 4.2.3 (2023-03-15) -- "Shortstop Beagle" | 4310 |
Click on any hostname to see more info about the system (e.g. compilers) (*) as reported by 'uname -p', except on Windows and Mac OS X |
To the developers/maintainers of the TrajectoryUtils package: - Please allow up to 24 hours (and sometimes 48 hours) for your latest push to git@git.bioconductor.org:packages/TrajectoryUtils.git to reflect on this report. SeeHow and When does the builder pull? When will my changes propagate?更多的在formation. - Make sure touse the following settingsin order to reproduce any error or warning you see on this page. |
Package2075/2183 | Hostname | OS / Arch | 安装 | BUILD | CHECK | BUILD BIN | ||||||||
TrajectoryUtils 1.6.0(landing page) Aaron Lun
|
nebbiolo2 | Linux (Ubuntu 20.04.5 LTS) / x86_64 | OK | OK | OK | |||||||||
palomino4 | Windows Server 2022 Datacenter / x64 | OK | OK | OK | OK | |||||||||
lconway | macOS 12.5.1 Monterey / x86_64 | OK | OK | OK | OK | |||||||||
QUICK STATS | OS / Arch | 安装 | BUILD | CHECK | BUILD BIN | |||||||||||||||||
nebbiolo2 | Linux (Ubuntu 20.04.5 LTS) / x86_64 |
|
|
|
||||||||||||||||||
palomino4 | Windows Server 2022 Datacenter / x64 |
|
|
|
|
|||||||||||||||||
lconway | macOS 12.5.1 Monterey / x86_64 |
|
|
|
|
|||||||||||||||||
Package1/5 | Hostname | OS / Arch | 安装 | BUILD | CHECK | BUILD BIN | ||||||||||||||||
condiments1.6.0(landing page) Hector Roux de Bezieux
|
nebbiolo2 | Linux (Ubuntu 20.04.5 LTS) / x86_64 | OK | OK | OK | |||||||||||||||||
palomino4 | Windows Server 2022 Datacenter / x64 | OK | OK | OK | OK | |||||||||||||||||
lconway | macOS 12.5.1 Monterey / x86_64 | OK | OK | OK | OK | |||||||||||||||||
Package2/5 | Hostname | OS / Arch | 安装 | BUILD | CHECK | BUILD BIN | ||||||||||||||||
singleCellTK2.8.0(landing page) 王一尘
|
nebbiolo2 | Linux (Ubuntu 20.04.5 LTS) / x86_64 | OK | OK | TIMEOUT | |||||||||||||||||
palomino4 | Windows Server 2022 Datacenter / x64 | OK | OK | OK | OK | |||||||||||||||||
lconway | macOS 12.5.1 Monterey / x86_64 | OK | OK | OK | OK | |||||||||||||||||
Package3/5 | Hostname | OS / Arch | 安装 | BUILD | CHECK | BUILD BIN | ||||||||||||||||
slingshot2.6.0(landing page) Kelly Street
|
nebbiolo2 | Linux (Ubuntu 20.04.5 LTS) / x86_64 | OK | OK | OK | |||||||||||||||||
palomino4 | Windows Server 2022 Datacenter / x64 | OK | OK | OK | OK | |||||||||||||||||
lconway | macOS 12.5.1 Monterey / x86_64 | OK | OK | OK | OK | |||||||||||||||||
Package4/5 | Hostname | OS / Arch | 安装 | BUILD | CHECK | BUILD BIN | ||||||||||||||||
tradeSeq1.12.0(landing page) Hector Roux de Bezieux
|
nebbiolo2 | Linux (Ubuntu 20.04.5 LTS) / x86_64 | OK | OK | OK | |||||||||||||||||
palomino4 | Windows Server 2022 Datacenter / x64 | OK | OK | OK | OK | |||||||||||||||||
lconway | macOS 12.5.1 Monterey / x86_64 | OK | OK | OK | OK | |||||||||||||||||
Package5/5 | Hostname | OS / Arch | 安装 | BUILD | CHECK | BUILD BIN | ||||||||||||||||
TSCAN1.36.0(landing page) Zhicheng Ji
|
nebbiolo2 | Linux (Ubuntu 20.04.5 LTS) / x86_64 | OK | OK | 警告 | |||||||||||||||||
palomino4 | Windows Server 2022 Datacenter / x64 | OK | OK | 警告 | OK | |||||||||||||||||
lconway | macOS 12.5.1 Monterey / x86_64 | OK | OK | 警告 | OK | |||||||||||||||||