回多个平台构建/检查报告BioC 3.15 |
|
这个页面生成于-0400年2022-10-19 13:19:17(结婚,2022年10月19日)。
主机名 | 操作系统 | 拱(*) | R版本 | 安装的包裹 |
---|---|---|---|---|
nebbiolo1 | Linux (Ubuntu 20.04.5 LTS) | x86_64 | 4.2.1(2022-06-23)准备——“滑稽的孩子” | 4386年 |
palomino3 | Windows Server 2022数据中心 | x64 | 4.2.1(2022-06-23准备ucrt)——“滑稽的孩子” | 4138年 |
merida1 | macOS 10.14.6莫哈韦沙漠 | x86_64 | 4.2.1(2022-06-23)准备——“滑稽的孩子” | 4205年 |
点击任何主机名看到更多的信息系统(如编译器)(*)报道的uname - p”,除了在Windows和Mac OS X |
的开发人员/维bob电竞体育官网护者bnbc包: ——请允许24小时(有时是48小时)为您的最新推到git@git.bioconductor.org:包/ bnbc.git 反思这一报告。看到如何以及何时builder拉吗?当我的更改传播吗?为更多的信息。 ——确保使用以下设置为了复制任何错误或警告你看到这个页面上。 |
包211年/ 2140 | 主机名 | OS /拱 | 安装 | 构建 | 检查 | 构建本 | ||||||||
bnbc 1.18.0(着陆页) 腌鱼Fletez-Brant
|
nebbiolo1 | Linux (Ubuntu 20.04.5 LTS) / x86_64 | 好吧 | 好吧 | 好吧 | ![]() |
||||||||
palomino3 | Windows Server 2022数据中心/ x64 | 好吧 | 好吧 | 好吧 | 好吧 | ![]() |
||||||||
merida1 | macOS 10.14.6莫哈韦/ x86_64 | 好吧 | 好吧 | 好吧 | 好吧 | ![]() |
||||||||